BEGIN:VCALENDAR
VERSION:2.0
PRODID:-//Skf Vechta - ECPv6.0.12//NONSGML v1.0//EN
CALSCALE:GREGORIAN
METHOD:PUBLISH
X-ORIGINAL-URL:https://skfvechta.kuhl-reklame.de
X-WR-CALDESC:Veranstaltungen für Skf Vechta
REFRESH-INTERVAL;VALUE=DURATION:PT1H
X-Robots-Tag:noindex
X-PUBLISHED-TTL:PT1H
BEGIN:VTIMEZONE
TZID:Europe/Berlin
BEGIN:DAYLIGHT
TZOFFSETFROM:+0100
TZOFFSETTO:+0200
TZNAME:CEST
DTSTART:20230326T010000
END:DAYLIGHT
BEGIN:STANDARD
TZOFFSETFROM:+0200
TZOFFSETTO:+0100
TZNAME:CET
DTSTART:20231029T010000
END:STANDARD
END:VTIMEZONE
BEGIN:VEVENT
DTSTART;TZID=Europe/Berlin:20230508T093000
DTEND;TZID=Europe/Berlin:20230508T103000
DTSTAMP:20260425T151158
CREATED:20230329T080801Z
LAST-MODIFIED:20230329T080931Z
UID:8260-1683538200-1683541800@skfvechta.kuhl-reklame.de
SUMMARY:Hebammensprechstunde Damme
DESCRIPTION:14-tägig montags (jede ungerade KW) 9:30 -10:30 Uhr im SkF Damme
URL:https://skfvechta.kuhl-reklame.de/termin/hebammensprechstunde-damme-3/
LOCATION:Skf Damme\, Gartenstraße 1\, Damme\, 49401
CATEGORIES:Familienhebammendienst
END:VEVENT
BEGIN:VEVENT
DTSTART;TZID=Europe/Berlin:20230508T110000
DTEND;TZID=Europe/Berlin:20230508T120000
DTSTAMP:20260425T151158
CREATED:20230329T075020Z
LAST-MODIFIED:20230329T075045Z
UID:8219-1683543600-1683547200@skfvechta.kuhl-reklame.de
SUMMARY:Hebammensprechstunde Vechta
DESCRIPTION:jeden Montag 11:00 – 12:00 Uhr im SkF Vechta
URL:https://skfvechta.kuhl-reklame.de/termin/hebammensprechstunde-2/
LOCATION:Skf Vechta\, Kronenstraße 5\, Vechta\, 49377
CATEGORIES:Familienhebammendienst
END:VEVENT
END:VCALENDAR