BEGIN:VCALENDAR
VERSION:2.0
PRODID:-//Skf Vechta - ECPv6.0.12//NONSGML v1.0//EN
CALSCALE:GREGORIAN
METHOD:PUBLISH
X-ORIGINAL-URL:https://skfvechta.kuhl-reklame.de
X-WR-CALDESC:Veranstaltungen für Skf Vechta
REFRESH-INTERVAL;VALUE=DURATION:PT1H
X-Robots-Tag:noindex
X-PUBLISHED-TTL:PT1H
BEGIN:VTIMEZONE
TZID:Europe/Berlin
BEGIN:DAYLIGHT
TZOFFSETFROM:+0100
TZOFFSETTO:+0200
TZNAME:CEST
DTSTART:20230326T010000
END:DAYLIGHT
BEGIN:STANDARD
TZOFFSETFROM:+0200
TZOFFSETTO:+0100
TZNAME:CET
DTSTART:20231029T010000
END:STANDARD
END:VTIMEZONE
BEGIN:VEVENT
DTSTART;TZID=Europe/Berlin:20230628T150000
DTEND;TZID=Europe/Berlin:20230628T170000
DTSTAMP:20260423T093019
CREATED:20230329T083001Z
LAST-MODIFIED:20230329T084757Z
UID:8292-1687964400-1687971600@skfvechta.kuhl-reklame.de
SUMMARY:Café Kinderwagen
DESCRIPTION:14-tägig mittwochs (jede gerade KW) 15:00 – 17:00 Uhr\nKita St. Elisabeth in Vörden
URL:https://skfvechta.kuhl-reklame.de/termin/cafe-kinderwagen-7/
LOCATION:St. Elisabeth Kita\, Hinnenkamper Kirchweg 2\, Neuenkirchen-Vörden\, 49434
CATEGORIES:Familienhebammendienst
END:VEVENT
BEGIN:VEVENT
DTSTART;TZID=Europe/Berlin:20230628T180000
DTEND;TZID=Europe/Berlin:20230628T180000
DTSTAMP:20260423T093019
CREATED:20230301T101221Z
LAST-MODIFIED:20230328T122821Z
UID:7742-1687975200-1687975200@skfvechta.kuhl-reklame.de
SUMMARY:Erfahrungs-Austausch
DESCRIPTION:Erfahrungs-Austausch bei Wurst und Bier. \nAnmeldung unter 04441-92900
URL:https://skfvechta.kuhl-reklame.de/termin/testveranstaltung-2/
LOCATION:Betreuungsverein\, Kronenstr. 5\, Vechta\, 49377
CATEGORIES:Betreuungsverein
END:VEVENT
END:VCALENDAR