BEGIN:VCALENDAR
VERSION:2.0
PRODID:-//Skf Vechta - ECPv6.0.12//NONSGML v1.0//EN
CALSCALE:GREGORIAN
METHOD:PUBLISH
X-WR-CALNAME:Skf Vechta
X-ORIGINAL-URL:https://skfvechta.kuhl-reklame.de
X-WR-CALDESC:Veranstaltungen für Skf Vechta
REFRESH-INTERVAL;VALUE=DURATION:PT1H
X-Robots-Tag:noindex
X-PUBLISHED-TTL:PT1H
BEGIN:VTIMEZONE
TZID:Europe/Berlin
BEGIN:DAYLIGHT
TZOFFSETFROM:+0100
TZOFFSETTO:+0200
TZNAME:CEST
DTSTART:20230326T010000
END:DAYLIGHT
BEGIN:STANDARD
TZOFFSETFROM:+0200
TZOFFSETTO:+0100
TZNAME:CET
DTSTART:20231029T010000
END:STANDARD
END:VTIMEZONE
BEGIN:VEVENT
DTSTART;TZID=Europe/Berlin:20230808T170000
DTEND;TZID=Europe/Berlin:20230808T180000
DTSTAMP:20260423T092717
CREATED:20230329T090313Z
LAST-MODIFIED:20230329T090313Z
UID:8339-1691514000-1691517600@skfvechta.kuhl-reklame.de
SUMMARY:Familienpaten-Austauschtreffen
DESCRIPTION:jeden 2. Dienstag 17:00 Uhr im Skf Vechta
URL:https://skfvechta.kuhl-reklame.de/termin/familienpaten-austauschtreffen-4/
LOCATION:Skf Vechta\, Kronenstraße 5\, Vechta\, 49377
CATEGORIES:Familienpaten
END:VEVENT
END:VCALENDAR