BEGIN:VCALENDAR
VERSION:2.0
PRODID:-//Skf Vechta - ECPv6.0.12//NONSGML v1.0//EN
CALSCALE:GREGORIAN
METHOD:PUBLISH
X-ORIGINAL-URL:https://skfvechta.kuhl-reklame.de
X-WR-CALDESC:Veranstaltungen für Skf Vechta
REFRESH-INTERVAL;VALUE=DURATION:PT1H
X-Robots-Tag:noindex
X-PUBLISHED-TTL:PT1H
BEGIN:VTIMEZONE
TZID:Europe/Berlin
BEGIN:DAYLIGHT
TZOFFSETFROM:+0100
TZOFFSETTO:+0200
TZNAME:CEST
DTSTART:20230326T010000
END:DAYLIGHT
BEGIN:STANDARD
TZOFFSETFROM:+0200
TZOFFSETTO:+0100
TZNAME:CET
DTSTART:20231029T010000
END:STANDARD
END:VTIMEZONE
BEGIN:VEVENT
DTSTART;TZID=Europe/Berlin:20230823T150000
DTEND;TZID=Europe/Berlin:20230823T170000
DTSTAMP:20260423T075521
CREATED:20230329T084108Z
LAST-MODIFIED:20230329T084108Z
UID:8300-1692802800-1692810000@skfvechta.kuhl-reklame.de
SUMMARY:Café Kinderwagen
DESCRIPTION:14-tägig mittwochs (jede gerade KW) 15:00 – 17:00 Uhr\nKita St. Elisabeth in Vörden
URL:https://skfvechta.kuhl-reklame.de/termin/cafe-kinderwagen-11/
LOCATION:St. Elisabeth Kita\, Hinnenkamper Kirchweg 2\, Neuenkirchen-Vörden\, 49434
CATEGORIES:Familienhebammendienst,Familienpaten
END:VEVENT
END:VCALENDAR