BEGIN:VCALENDAR
VERSION:2.0
PRODID:-//Skf Vechta - ECPv6.0.12//NONSGML v1.0//EN
CALSCALE:GREGORIAN
METHOD:PUBLISH
X-ORIGINAL-URL:https://skfvechta.kuhl-reklame.de
X-WR-CALDESC:Veranstaltungen für Skf Vechta
REFRESH-INTERVAL;VALUE=DURATION:PT1H
X-Robots-Tag:noindex
X-PUBLISHED-TTL:PT1H
BEGIN:VTIMEZONE
TZID:Europe/Berlin
BEGIN:DAYLIGHT
TZOFFSETFROM:+0100
TZOFFSETTO:+0200
TZNAME:CEST
DTSTART:20230326T010000
END:DAYLIGHT
BEGIN:STANDARD
TZOFFSETFROM:+0200
TZOFFSETTO:+0100
TZNAME:CET
DTSTART:20231029T010000
END:STANDARD
END:VTIMEZONE
BEGIN:VEVENT
DTSTART;TZID=Europe/Berlin:20230501T110000
DTEND;TZID=Europe/Berlin:20230501T120000
DTSTAMP:20260425T134810
CREATED:20230329T074858Z
LAST-MODIFIED:20230329T074858Z
UID:8217-1682938800-1682942400@skfvechta.kuhl-reklame.de
SUMMARY:Hebammensprechstunde Vechta
DESCRIPTION:jeden Montag 11:00 – 12:00 Uhr im SkF Vechta
URL:https://skfvechta.kuhl-reklame.de/termin/hebammensprechstunde-vechta-4/
LOCATION:Skf Vechta\, Kronenstraße 5\, Vechta\, 49377
CATEGORIES:Familienhebammendienst
END:VEVENT
BEGIN:VEVENT
DTSTART;TZID=Europe/Berlin:20230503T150000
DTEND;TZID=Europe/Berlin:20230503T170000
DTSTAMP:20260425T134810
CREATED:20230329T082704Z
LAST-MODIFIED:20230329T082704Z
UID:8284-1683126000-1683133200@skfvechta.kuhl-reklame.de
SUMMARY:Café Kinderwagen
DESCRIPTION:14-tägig mittwochs (jede gerade KW) 15:00 – 17:00 Uhr\nKita St. Elisabeth in Vörden
URL:https://skfvechta.kuhl-reklame.de/termin/cafe-kinderwagen-3/
LOCATION:St. Elisabeth Kita\, Hinnenkamper Kirchweg 2\, Neuenkirchen-Vörden\, 49434
CATEGORIES:Familienhebammendienst,Familienpaten
END:VEVENT
BEGIN:VEVENT
DTSTART;TZID=Europe/Berlin:20230508T093000
DTEND;TZID=Europe/Berlin:20230508T103000
DTSTAMP:20260425T134810
CREATED:20230329T080801Z
LAST-MODIFIED:20230329T080931Z
UID:8260-1683538200-1683541800@skfvechta.kuhl-reklame.de
SUMMARY:Hebammensprechstunde Damme
DESCRIPTION:14-tägig montags (jede ungerade KW) 9:30 -10:30 Uhr im SkF Damme
URL:https://skfvechta.kuhl-reklame.de/termin/hebammensprechstunde-damme-3/
LOCATION:Skf Damme\, Gartenstraße 1\, Damme\, 49401
CATEGORIES:Familienhebammendienst
END:VEVENT
BEGIN:VEVENT
DTSTART;TZID=Europe/Berlin:20230508T110000
DTEND;TZID=Europe/Berlin:20230508T120000
DTSTAMP:20260425T134810
CREATED:20230329T075020Z
LAST-MODIFIED:20230329T075045Z
UID:8219-1683543600-1683547200@skfvechta.kuhl-reklame.de
SUMMARY:Hebammensprechstunde Vechta
DESCRIPTION:jeden Montag 11:00 – 12:00 Uhr im SkF Vechta
URL:https://skfvechta.kuhl-reklame.de/termin/hebammensprechstunde-2/
LOCATION:Skf Vechta\, Kronenstraße 5\, Vechta\, 49377
CATEGORIES:Familienhebammendienst
END:VEVENT
BEGIN:VEVENT
DTSTART;TZID=Europe/Berlin:20230509T170000
DTEND;TZID=Europe/Berlin:20230509T180000
DTSTAMP:20260425T134810
CREATED:20230329T085442Z
LAST-MODIFIED:20230329T085442Z
UID:8327-1683651600-1683655200@skfvechta.kuhl-reklame.de
SUMMARY:Familienpaten-Austauschtreffen
DESCRIPTION:jeden 2. Dienstag 17:00 Uhr im Skf Vechta
URL:https://skfvechta.kuhl-reklame.de/termin/familienpaten-austauschtreffen-3/
LOCATION:Skf Vechta\, Kronenstraße 5\, Vechta\, 49377
CATEGORIES:Familienpaten
END:VEVENT
BEGIN:VEVENT
DTSTART;TZID=Europe/Berlin:20230515T110000
DTEND;TZID=Europe/Berlin:20230515T120000
DTSTAMP:20260425T134810
CREATED:20230329T075207Z
LAST-MODIFIED:20230329T075207Z
UID:8222-1684148400-1684152000@skfvechta.kuhl-reklame.de
SUMMARY:Hebammensprechstunde Vechta
DESCRIPTION:jeden Montag 11:00 – 12:00 Uhr im SkF Vechta
URL:https://skfvechta.kuhl-reklame.de/termin/hebammensprechstunde-vechta-5/
LOCATION:Skf Vechta\, Kronenstraße 5\, Vechta\, 49377
CATEGORIES:Familienhebammendienst
END:VEVENT
BEGIN:VEVENT
DTSTART;TZID=Europe/Berlin:20230516T170000
DTEND;TZID=Europe/Berlin:20230516T180000
DTSTAMP:20260425T134810
CREATED:20230329T090427Z
LAST-MODIFIED:20230329T090427Z
UID:8343-1684256400-1684260000@skfvechta.kuhl-reklame.de
SUMMARY:Familienpaten-Austauschtreffen
DESCRIPTION:jeden 3. Dienstag 17:00 Uhr im SkF Damme
URL:https://skfvechta.kuhl-reklame.de/termin/familienpaten-austauschtreffen-7/
LOCATION:Skf Damme\, Gartenstraße 1\, Damme\, 49401
CATEGORIES:Familienpaten
END:VEVENT
BEGIN:VEVENT
DTSTART;TZID=Europe/Berlin:20230517T150000
DTEND;TZID=Europe/Berlin:20230517T170000
DTSTAMP:20260425T134810
CREATED:20230329T082804Z
LAST-MODIFIED:20230329T084836Z
UID:8286-1684335600-1684342800@skfvechta.kuhl-reklame.de
SUMMARY:Café Kinderwagen
DESCRIPTION:14-tägig mittwochs (jede gerade KW) 15:00 – 17:00 Uhr\nKita St. Elisabeth in Vörden
URL:https://skfvechta.kuhl-reklame.de/termin/cafe-kinderwagen-4/
LOCATION:St. Elisabeth Kita\, Hinnenkamper Kirchweg 2\, Neuenkirchen-Vörden\, 49434
CATEGORIES:Familienhebammendienst
END:VEVENT
BEGIN:VEVENT
DTSTART;TZID=Europe/Berlin:20230522T093000
DTEND;TZID=Europe/Berlin:20230522T103000
DTSTAMP:20260425T134810
CREATED:20230329T081028Z
LAST-MODIFIED:20230329T081028Z
UID:8262-1684747800-1684751400@skfvechta.kuhl-reklame.de
SUMMARY:Hebammensprechstunde Damme
DESCRIPTION:14-tägig montags (jede ungerade KW) 9:30 -10:30 Uhr im SkF Damme
URL:https://skfvechta.kuhl-reklame.de/termin/hebammensprechstunde-damme-4/
LOCATION:Skf Damme\, Gartenstraße 1\, Damme\, 49401
CATEGORIES:Familienhebammendienst
END:VEVENT
BEGIN:VEVENT
DTSTART;TZID=Europe/Berlin:20230522T110000
DTEND;TZID=Europe/Berlin:20230522T120000
DTSTAMP:20260425T134810
CREATED:20230329T075326Z
LAST-MODIFIED:20230329T075326Z
UID:8224-1684753200-1684756800@skfvechta.kuhl-reklame.de
SUMMARY:Hebammensprechstunde Vechta
DESCRIPTION:jeden Montag 11:00 – 12:00 Uhr im SkF Vechta
URL:https://skfvechta.kuhl-reklame.de/termin/hebammensprechstunde-vechta-6/
LOCATION:Skf Vechta\, Kronenstraße 5\, Vechta\, 49377
CATEGORIES:Familienhebammendienst
END:VEVENT
BEGIN:VEVENT
DTSTART;TZID=Europe/Berlin:20230524T180000
DTEND;TZID=Europe/Berlin:20230524T193000
DTSTAMP:20260425T134810
CREATED:20230315T123148Z
LAST-MODIFIED:20230328T122558Z
UID:8067-1684951200-1684956600@skfvechta.kuhl-reklame.de
SUMMARY:Austausch mit Vorstand und Geschäftsführung des SkF
DESCRIPTION:Anmeldung unter: 04441-92900
URL:https://skfvechta.kuhl-reklame.de/termin/austausch-vorstand/
LOCATION:Betreuungsverein\, Kronenstr. 5\, Vechta\, 49377
CATEGORIES:Betreuungsverein
END:VEVENT
BEGIN:VEVENT
DTSTART;TZID=Europe/Berlin:20230525T093000
DTEND;TZID=Europe/Berlin:20230525T113000
DTSTAMP:20260425T134810
CREATED:20230329T085044Z
LAST-MODIFIED:20230329T085044Z
UID:8315-1685007000-1685014200@skfvechta.kuhl-reklame.de
SUMMARY:Elternfrühstück
DESCRIPTION:jeden letzten Donnerstag im Monat 9:30 – 11:30 Uhr im SkF Damme
URL:https://skfvechta.kuhl-reklame.de/termin/elternfruehstueck-2/
LOCATION:Skf Damme\, Gartenstraße 1\, Damme\, 49401
CATEGORIES:Familienhebammendienst
END:VEVENT
BEGIN:VEVENT
DTSTART;TZID=Europe/Berlin:20230529T110000
DTEND;TZID=Europe/Berlin:20230529T120000
DTSTAMP:20260425T134810
CREATED:20230329T075412Z
LAST-MODIFIED:20230329T075412Z
UID:8226-1685358000-1685361600@skfvechta.kuhl-reklame.de
SUMMARY:Hebammensprechstunde Vechta
DESCRIPTION:jeden Montag 11:00 – 12:00 Uhr im SkF Vechta
URL:https://skfvechta.kuhl-reklame.de/termin/hebammensprechstunde-vechta-7/
LOCATION:Skf Vechta\, Kronenstraße 5\, Vechta\, 49377
CATEGORIES:Familienhebammendienst
END:VEVENT
BEGIN:VEVENT
DTSTART;TZID=Europe/Berlin:20230530T150000
DTEND;TZID=Europe/Berlin:20230530T170000
DTSTAMP:20260425T134810
CREATED:20230329T084410Z
LAST-MODIFIED:20230329T084829Z
UID:8305-1685458800-1685466000@skfvechta.kuhl-reklame.de
SUMMARY:Offener Treff für Schwangere und Mütter
DESCRIPTION:Jeden letzten Dienstag im Monat 15:00 – 17:00 Uhr im „Haus der Begegnung“ in Lohne
URL:https://skfvechta.kuhl-reklame.de/termin/offener-treff-fuer-schwangere-und-muetter-2/
LOCATION:Haus der Begegnung\, Neuer Markt 4\, Lohne\, 49393
CATEGORIES:Familienhebammendienst
END:VEVENT
BEGIN:VEVENT
DTSTART;TZID=Europe/Berlin:20230531T150000
DTEND;TZID=Europe/Berlin:20230531T170000
DTSTAMP:20260425T134810
CREATED:20230329T082840Z
LAST-MODIFIED:20230329T084823Z
UID:8288-1685545200-1685552400@skfvechta.kuhl-reklame.de
SUMMARY:Café Kinderwagen
DESCRIPTION:14-tägig mittwochs (jede gerade KW) 15:00 – 17:00 Uhr\nKita St. Elisabeth in Vörden
URL:https://skfvechta.kuhl-reklame.de/termin/cafe-kinderwagen-5/
LOCATION:St. Elisabeth Kita\, Hinnenkamper Kirchweg 2\, Neuenkirchen-Vörden\, 49434
CATEGORIES:Familienhebammendienst
END:VEVENT
END:VCALENDAR