BEGIN:VCALENDAR
VERSION:2.0
PRODID:-//Skf Vechta - ECPv6.0.12//NONSGML v1.0//EN
CALSCALE:GREGORIAN
METHOD:PUBLISH
X-ORIGINAL-URL:https://skfvechta.kuhl-reklame.de
X-WR-CALDESC:Veranstaltungen für Skf Vechta
REFRESH-INTERVAL;VALUE=DURATION:PT1H
X-Robots-Tag:noindex
X-PUBLISHED-TTL:PT1H
BEGIN:VTIMEZONE
TZID:Europe/Berlin
BEGIN:DAYLIGHT
TZOFFSETFROM:+0100
TZOFFSETTO:+0200
TZNAME:CEST
DTSTART:20230326T010000
END:DAYLIGHT
BEGIN:STANDARD
TZOFFSETFROM:+0200
TZOFFSETTO:+0100
TZNAME:CET
DTSTART:20231029T010000
END:STANDARD
END:VTIMEZONE
BEGIN:VEVENT
DTSTART;TZID=Europe/Berlin:20230807T110000
DTEND;TZID=Europe/Berlin:20230807T120000
DTSTAMP:20260423T061101
CREATED:20230329T080055Z
LAST-MODIFIED:20230329T080055Z
UID:8246-1691406000-1691409600@skfvechta.kuhl-reklame.de
SUMMARY:Hebammensprechstunde Vechta
DESCRIPTION:jeden Montag 11:00 – 12:00 Uhr im SkF Vechta
URL:https://skfvechta.kuhl-reklame.de/termin/hebammensprechstunde-vechta-17/
LOCATION:Skf Vechta\, Kronenstraße 5\, Vechta\, 49377
CATEGORIES:Familienhebammendienst
END:VEVENT
BEGIN:VEVENT
DTSTART;TZID=Europe/Berlin:20230808T170000
DTEND;TZID=Europe/Berlin:20230808T180000
DTSTAMP:20260423T061101
CREATED:20230329T090313Z
LAST-MODIFIED:20230329T090313Z
UID:8339-1691514000-1691517600@skfvechta.kuhl-reklame.de
SUMMARY:Familienpaten-Austauschtreffen
DESCRIPTION:jeden 2. Dienstag 17:00 Uhr im Skf Vechta
URL:https://skfvechta.kuhl-reklame.de/termin/familienpaten-austauschtreffen-4/
LOCATION:Skf Vechta\, Kronenstraße 5\, Vechta\, 49377
CATEGORIES:Familienpaten
END:VEVENT
BEGIN:VEVENT
DTSTART;TZID=Europe/Berlin:20230809T150000
DTEND;TZID=Europe/Berlin:20230809T170000
DTSTAMP:20260423T061101
CREATED:20230329T084031Z
LAST-MODIFIED:20230329T084031Z
UID:8298-1691593200-1691600400@skfvechta.kuhl-reklame.de
SUMMARY:Café Kinderwagen
DESCRIPTION:14-tägig mittwochs (jede gerade KW) 15:00 – 17:00 Uhr\nKita St. Elisabeth in Vörden
URL:https://skfvechta.kuhl-reklame.de/termin/cafe-kinderwagen-10/
LOCATION:St. Elisabeth Kita\, Hinnenkamper Kirchweg 2\, Neuenkirchen-Vörden\, 49434
CATEGORIES:Familienhebammendienst,Familienpaten
END:VEVENT
BEGIN:VEVENT
DTSTART;TZID=Europe/Berlin:20230814T093000
DTEND;TZID=Europe/Berlin:20230814T103000
DTSTAMP:20260423T061101
CREATED:20230329T081506Z
LAST-MODIFIED:20230329T081506Z
UID:8275-1692005400-1692009000@skfvechta.kuhl-reklame.de
SUMMARY:Hebammensprechstunde Damme
DESCRIPTION:14-tägig montags (jede ungerade KW) 9:30 -10:30 Uhr im SkF Damme
URL:https://skfvechta.kuhl-reklame.de/termin/hebammensprechstunde-damme-10/
LOCATION:Skf Damme\, Gartenstraße 1\, Damme\, 49401
CATEGORIES:Familienhebammendienst
END:VEVENT
BEGIN:VEVENT
DTSTART;TZID=Europe/Berlin:20230814T110000
DTEND;TZID=Europe/Berlin:20230814T120000
DTSTAMP:20260423T061101
CREATED:20230329T080127Z
LAST-MODIFIED:20230329T080127Z
UID:8248-1692010800-1692014400@skfvechta.kuhl-reklame.de
SUMMARY:Hebammensprechstunde Vechta
DESCRIPTION:jeden Montag 11:00 – 12:00 Uhr im SkF Vechta
URL:https://skfvechta.kuhl-reklame.de/termin/hebammensprechstunde-vechta-18/
LOCATION:Skf Vechta\, Kronenstraße 5\, Vechta\, 49377
CATEGORIES:Familienhebammendienst
END:VEVENT
BEGIN:VEVENT
DTSTART;TZID=Europe/Berlin:20230815T080000
DTEND;TZID=Europe/Berlin:20230815T170000
DTSTAMP:20260423T061101
CREATED:20230329T090559Z
LAST-MODIFIED:20230329T090559Z
UID:8349-1692086400-1692118800@skfvechta.kuhl-reklame.de
SUMMARY:Familienpaten-Austauschtreffen
DESCRIPTION:jeden 3. Dienstag 17:00 Uhr im SkF Damme
URL:https://skfvechta.kuhl-reklame.de/termin/familienpaten-austauschtreffen-10/
LOCATION:Skf Damme\, Gartenstraße 1\, Damme\, 49401
CATEGORIES:Familienpaten
END:VEVENT
BEGIN:VEVENT
DTSTART;TZID=Europe/Berlin:20230821T110000
DTEND;TZID=Europe/Berlin:20230821T120000
DTSTAMP:20260423T061101
CREATED:20230329T080202Z
LAST-MODIFIED:20230329T080202Z
UID:8250-1692615600-1692619200@skfvechta.kuhl-reklame.de
SUMMARY:Hebammensprechstunde Vechta
DESCRIPTION:jeden Montag 11:00 – 12:00 Uhr im SkF Vechta
URL:https://skfvechta.kuhl-reklame.de/termin/hebammensprechstunde-vechta-19/
LOCATION:Skf Vechta\, Kronenstraße 5\, Vechta\, 49377
CATEGORIES:Familienhebammendienst
END:VEVENT
BEGIN:VEVENT
DTSTART;TZID=Europe/Berlin:20230823T150000
DTEND;TZID=Europe/Berlin:20230823T170000
DTSTAMP:20260423T061101
CREATED:20230329T084108Z
LAST-MODIFIED:20230329T084108Z
UID:8300-1692802800-1692810000@skfvechta.kuhl-reklame.de
SUMMARY:Café Kinderwagen
DESCRIPTION:14-tägig mittwochs (jede gerade KW) 15:00 – 17:00 Uhr\nKita St. Elisabeth in Vörden
URL:https://skfvechta.kuhl-reklame.de/termin/cafe-kinderwagen-11/
LOCATION:St. Elisabeth Kita\, Hinnenkamper Kirchweg 2\, Neuenkirchen-Vörden\, 49434
CATEGORIES:Familienhebammendienst,Familienpaten
END:VEVENT
BEGIN:VEVENT
DTSTART;TZID=Europe/Berlin:20230828T093000
DTEND;TZID=Europe/Berlin:20230828T103000
DTSTAMP:20260423T061101
CREATED:20230329T081549Z
LAST-MODIFIED:20230329T081549Z
UID:8277-1693215000-1693218600@skfvechta.kuhl-reklame.de
SUMMARY:Hebammensprechstunde Damme
DESCRIPTION:14-tägig montags (jede ungerade KW) 9:30 -10:30 Uhr im SkF Damme
URL:https://skfvechta.kuhl-reklame.de/termin/hebammensprechstunde-damme-11/
LOCATION:Skf Damme\, Gartenstraße 1\, Damme\, 49401
CATEGORIES:Familienhebammendienst
END:VEVENT
BEGIN:VEVENT
DTSTART;TZID=Europe/Berlin:20230828T110000
DTEND;TZID=Europe/Berlin:20230828T120000
DTSTAMP:20260423T061101
CREATED:20230329T080253Z
LAST-MODIFIED:20230329T080253Z
UID:8252-1693220400-1693224000@skfvechta.kuhl-reklame.de
SUMMARY:Hebammensprechstunde Vechta
DESCRIPTION:jeden Montag 11:00 – 12:00 Uhr im SkF Vechta
URL:https://skfvechta.kuhl-reklame.de/termin/hebammensprechstunde-vechta-20/
LOCATION:Skf Vechta\, Kronenstraße 5\, Vechta\, 49377
CATEGORIES:Familienhebammendienst
END:VEVENT
BEGIN:VEVENT
DTSTART;TZID=Europe/Berlin:20230829T150000
DTEND;TZID=Europe/Berlin:20230829T170000
DTSTAMP:20260423T061101
CREATED:20230329T084612Z
LAST-MODIFIED:20230329T084612Z
UID:8311-1693321200-1693328400@skfvechta.kuhl-reklame.de
SUMMARY:Offener Treff für Schwangere und Mütter
DESCRIPTION:Jeden letzten Dienstag im Monat 15:00 – 17:00 Uhr im „Haus der Begegnung“ in Lohne
URL:https://skfvechta.kuhl-reklame.de/termin/offener-treff-fuer-schwangere-und-muetter-5/
LOCATION:Haus der Begegnung\, Neuer Markt 4\, Lohne\, 49393
CATEGORIES:Familienhebammendienst,Familienpaten
END:VEVENT
BEGIN:VEVENT
DTSTART;TZID=Europe/Berlin:20230831T093000
DTEND;TZID=Europe/Berlin:20230831T113000
DTSTAMP:20260423T061101
CREATED:20230329T085215Z
LAST-MODIFIED:20230329T085215Z
UID:8321-1693474200-1693481400@skfvechta.kuhl-reklame.de
SUMMARY:Elternfrühstück
DESCRIPTION:jeden letzten Donnerstag im Monat 9:30 – 11:30 Uhr im SkF Damme
URL:https://skfvechta.kuhl-reklame.de/termin/elternfruehstueck-5/
LOCATION:Skf Damme\, Gartenstraße 1\, Damme\, 49401
CATEGORIES:Familienhebammendienst
END:VEVENT
END:VCALENDAR